BEGIN:VCALENDAR
VERSION:2.0
PRODID:-//Department Of Education//227d185d-71a0-4601-b28b-f440606c4e8b
BEGIN:VTIMEZONE
TZID:Australia/Sydney
TZURL:http://tzurl.org/zoneinfo-outlook/Australia/Sydney
X-LIC-LOCATION:Australia/Sydney
BEGIN:STANDARD
TZOFFSETFROM:+1100
TZOFFSETTO:+1000
TZNAME:AEST
DTSTART:19700405T030000
RRULE:FREQ=YEARLY;BYMONTH=4;BYDAY=1SU
END:STANDARD
BEGIN:DAYLIGHT
TZOFFSETFROM:+1000
TZOFFSETTO:+1100
TZNAME:AEDT
DTSTART:19701004T020000
RRULE:FREQ=YEARLY;BYMONTH=10;BYDAY=1SU
END:DAYLIGHT
END:VTIMEZONE
CALSCALE:GREGORIAN
X-WR-TIMEZONE:Australia/Sydney
BEGIN:VEVENT
DTSTART;VALUE=DATE:20180504
DTEND;VALUE=DATE:20180505
DTSTAMP:20180504T000000Z
UID:b35ee85f-48ea-459c-b443-fdab1644a438
LOCATION:
SUMMARY;LANGUAGE=en-us:Zone Cross Country
SEQUENCE:0
DESCRIPTION:Zone Cross Country
END:VEVENT
TRANSP:TRANSPARENT
END:VCALENDAR
