BEGIN:VCALENDAR
VERSION:2.0
PRODID:-//Department Of Education//d1887114-46fd-4bb0-a329-f76495f9f428
BEGIN:VTIMEZONE
TZID:Australia/Sydney
TZURL:http://tzurl.org/zoneinfo-outlook/Australia/Sydney
X-LIC-LOCATION:Australia/Sydney
BEGIN:STANDARD
TZOFFSETFROM:+1100
TZOFFSETTO:+1000
TZNAME:AEST
DTSTART:19700405T030000
RRULE:FREQ=YEARLY;BYMONTH=4;BYDAY=1SU
END:STANDARD
BEGIN:DAYLIGHT
TZOFFSETFROM:+1000
TZOFFSETTO:+1100
TZNAME:AEDT
DTSTART:19701004T020000
RRULE:FREQ=YEARLY;BYMONTH=10;BYDAY=1SU
END:DAYLIGHT
END:VTIMEZONE
CALSCALE:GREGORIAN
X-WR-TIMEZONE:Australia/Sydney
BEGIN:VEVENT
DTSTART;VALUE=DATE:20180530
DTEND;VALUE=DATE:20180531
DTSTAMP:20180530T000000Z
UID:a580de97-bd72-4757-b151-5ce9d8b63c88
LOCATION:
SUMMARY;LANGUAGE=en-us:WOW Day at CHS
SEQUENCE:0
DESCRIPTION:WOW Day at CHS
END:VEVENT
TRANSP:TRANSPARENT
END:VCALENDAR
