BEGIN:VCALENDAR
VERSION:2.0
PRODID:-//Department Of Education//5dd064c0-783e-4bdc-bc28-10aa75e6b926
BEGIN:VTIMEZONE
TZID:Australia/Sydney
TZURL:http://tzurl.org/zoneinfo-outlook/Australia/Sydney
X-LIC-LOCATION:Australia/Sydney
BEGIN:STANDARD
TZOFFSETFROM:+1100
TZOFFSETTO:+1000
TZNAME:AEST
DTSTART:19700405T030000
RRULE:FREQ=YEARLY;BYMONTH=4;BYDAY=1SU
END:STANDARD
BEGIN:DAYLIGHT
TZOFFSETFROM:+1000
TZOFFSETTO:+1100
TZNAME:AEDT
DTSTART:19701004T020000
RRULE:FREQ=YEARLY;BYMONTH=10;BYDAY=1SU
END:DAYLIGHT
END:VTIMEZONE
CALSCALE:GREGORIAN
X-WR-TIMEZONE:Australia/Sydney
BEGIN:VEVENT
DTSTART;VALUE=DATE:20180529
DTEND;VALUE=DATE:20180530
DTSTAMP:20180529T000000Z
UID:b0362a45-63d8-40ed-9736-877559f10657
LOCATION:School Hall, Chatham Public School, 17-19 Chatham ave, Taree NSW 2430
SUMMARY;LANGUAGE=en-us:Test
SEQUENCE:0
DESCRIPTION:This is a test event
END:VEVENT
TRANSP:TRANSPARENT
END:VCALENDAR
