BEGIN:VCALENDAR
VERSION:2.0
PRODID:-//Department Of Education//bfcc6131-0896-4370-9e0a-1544b3e807ed
BEGIN:VTIMEZONE
TZID:Australia/Sydney
TZURL:http://tzurl.org/zoneinfo-outlook/Australia/Sydney
X-LIC-LOCATION:Australia/Sydney
BEGIN:STANDARD
TZOFFSETFROM:+1100
TZOFFSETTO:+1000
TZNAME:AEST
DTSTART:19700405T030000
RRULE:FREQ=YEARLY;BYMONTH=4;BYDAY=1SU
END:STANDARD
BEGIN:DAYLIGHT
TZOFFSETFROM:+1000
TZOFFSETTO:+1100
TZNAME:AEDT
DTSTART:19701004T020000
RRULE:FREQ=YEARLY;BYMONTH=10;BYDAY=1SU
END:DAYLIGHT
END:VTIMEZONE
CALSCALE:GREGORIAN
X-WR-TIMEZONE:Australia/Sydney
BEGIN:VEVENT
DTSTART;VALUE=DATE:20180511
DTEND;VALUE=DATE:20180512
DTSTAMP:20180511T000000Z
UID:71072ab7-ad71-4de4-9bc3-ecf6441144ae
LOCATION:
SUMMARY;LANGUAGE=en-us:Stage 3 Excursion Deposit due
SEQUENCE:0
DESCRIPTION:Stage 3 Excursion Deposit due
END:VEVENT
TRANSP:TRANSPARENT
END:VCALENDAR
