BEGIN:VCALENDAR
VERSION:2.0
PRODID:-//Department Of Education//5a81d2d6-5108-43c4-9bf9-627d49bf10db
BEGIN:VTIMEZONE
TZID:Australia/Sydney
TZURL:http://tzurl.org/zoneinfo-outlook/Australia/Sydney
X-LIC-LOCATION:Australia/Sydney
BEGIN:STANDARD
TZOFFSETFROM:+1100
TZOFFSETTO:+1000
TZNAME:AEST
DTSTART:19700405T030000
RRULE:FREQ=YEARLY;BYMONTH=4;BYDAY=1SU
END:STANDARD
BEGIN:DAYLIGHT
TZOFFSETFROM:+1000
TZOFFSETTO:+1100
TZNAME:AEDT
DTSTART:19701004T020000
RRULE:FREQ=YEARLY;BYMONTH=10;BYDAY=1SU
END:DAYLIGHT
END:VTIMEZONE
CALSCALE:GREGORIAN
X-WR-TIMEZONE:Australia/Sydney
BEGIN:VEVENT
DTSTART;VALUE=DATE:20180510
DTEND;VALUE=DATE:20180511
DTSTAMP:20180510T000000Z
UID:ff28d201-d704-4b42-a2aa-74ff34dd56bd
LOCATION:
SUMMARY;LANGUAGE=en-us:Science & Engineering Day
SEQUENCE:0
DESCRIPTION:Midcoast Science & Engineering Challenge Discovery Day
END:VEVENT
TRANSP:TRANSPARENT
END:VCALENDAR
