BEGIN:VCALENDAR
VERSION:2.0
PRODID:-//Department Of Education//a5a5a709-4647-416c-92bf-df0b2780735f
BEGIN:VTIMEZONE
TZID:Australia/Sydney
TZURL:http://tzurl.org/zoneinfo-outlook/Australia/Sydney
X-LIC-LOCATION:Australia/Sydney
BEGIN:STANDARD
TZOFFSETFROM:+1100
TZOFFSETTO:+1000
TZNAME:AEST
DTSTART:19700405T030000
RRULE:FREQ=YEARLY;BYMONTH=4;BYDAY=1SU
END:STANDARD
BEGIN:DAYLIGHT
TZOFFSETFROM:+1000
TZOFFSETTO:+1100
TZNAME:AEDT
DTSTART:19701004T020000
RRULE:FREQ=YEARLY;BYMONTH=10;BYDAY=1SU
END:DAYLIGHT
END:VTIMEZONE
CALSCALE:GREGORIAN
X-WR-TIMEZONE:Australia/Sydney
BEGIN:VEVENT
DTSTART;VALUE=DATE:20180515
DTEND;VALUE=DATE:20180516
DTSTAMP:20180515T000000Z
UID:993afc9a-1efc-4625-827d-c07d7c9f6563
LOCATION:
SUMMARY;LANGUAGE=en-us:Naplan Commences
SEQUENCE:0
DESCRIPTION:Naplan Commences
END:VEVENT
TRANSP:TRANSPARENT
END:VCALENDAR
