BEGIN:VCALENDAR
VERSION:2.0
PRODID:-//Department Of Education//e4862222-245a-4371-b9d1-523bd6576aa7
BEGIN:VTIMEZONE
TZID:Australia/Sydney
TZURL:http://tzurl.org/zoneinfo-outlook/Australia/Sydney
X-LIC-LOCATION:Australia/Sydney
BEGIN:STANDARD
TZOFFSETFROM:+1100
TZOFFSETTO:+1000
TZNAME:AEST
DTSTART:19700405T030000
RRULE:FREQ=YEARLY;BYMONTH=4;BYDAY=1SU
END:STANDARD
BEGIN:DAYLIGHT
TZOFFSETFROM:+1000
TZOFFSETTO:+1100
TZNAME:AEDT
DTSTART:19701004T020000
RRULE:FREQ=YEARLY;BYMONTH=10;BYDAY=1SU
END:DAYLIGHT
END:VTIMEZONE
CALSCALE:GREGORIAN
X-WR-TIMEZONE:Australia/Sydney
BEGIN:VEVENT
DTSTART;TZID=Australia/Sydney:20180529T150000
DTEND;TZID=Australia/Sydney:20180529T160000
DTSTAMP:20180529T150000Z
UID:56c66317-1698-4bff-b5f1-b3ead1a756f5
LOCATION:
SUMMARY;LANGUAGE=en-us:Information Afternoon by CHS
SEQUENCE:0
DESCRIPTION:Information Afternoon by Chatham High School for Year 6 students
END:VEVENT
TRANSP:TRANSPARENT
END:VCALENDAR
