BEGIN:VCALENDAR
VERSION:2.0
PRODID:-//Department Of Education//a3c1eb7e-63e0-4f68-abc8-c24b8cec0cad
BEGIN:VTIMEZONE
TZID:Australia/Sydney
TZURL:http://tzurl.org/zoneinfo-outlook/Australia/Sydney
X-LIC-LOCATION:Australia/Sydney
BEGIN:STANDARD
TZOFFSETFROM:+1100
TZOFFSETTO:+1000
TZNAME:AEST
DTSTART:19700405T030000
RRULE:FREQ=YEARLY;BYMONTH=4;BYDAY=1SU
END:STANDARD
BEGIN:DAYLIGHT
TZOFFSETFROM:+1000
TZOFFSETTO:+1100
TZNAME:AEDT
DTSTART:19701004T020000
RRULE:FREQ=YEARLY;BYMONTH=10;BYDAY=1SU
END:DAYLIGHT
END:VTIMEZONE
CALSCALE:GREGORIAN
X-WR-TIMEZONE:Australia/Sydney
BEGIN:VEVENT
DTSTART;TZID=Australia/Sydney:20180321T093000
DTEND;TZID=Australia/Sydney:20180321T103000
DTSTAMP:20180321T093000Z
UID:fe3ed45d-355d-4932-a2a5-2ba27669752b
LOCATION:
SUMMARY;LANGUAGE=en-us:Parent/Caregiver Child Protectio
SEQUENCE:0
DESCRIPTION:Parent/Caregiver Child Protection Session
END:VEVENT
TRANSP:TRANSPARENT
END:VCALENDAR
