BEGIN:VCALENDAR
VERSION:2.0
PRODID:-//Department Of Education//0b0d8e8e-8531-4c1a-ae48-c48817578a8d
BEGIN:VTIMEZONE
TZID:Australia/Sydney
TZURL:http://tzurl.org/zoneinfo-outlook/Australia/Sydney
X-LIC-LOCATION:Australia/Sydney
BEGIN:STANDARD
TZOFFSETFROM:+1100
TZOFFSETTO:+1000
TZNAME:AEST
DTSTART:19700405T030000
RRULE:FREQ=YEARLY;BYMONTH=4;BYDAY=1SU
END:STANDARD
BEGIN:DAYLIGHT
TZOFFSETFROM:+1000
TZOFFSETTO:+1100
TZNAME:AEDT
DTSTART:19701004T020000
RRULE:FREQ=YEARLY;BYMONTH=10;BYDAY=1SU
END:DAYLIGHT
END:VTIMEZONE
CALSCALE:GREGORIAN
X-WR-TIMEZONE:Australia/Sydney
BEGIN:VEVENT
DTSTART;VALUE=DATE:20180130
DTEND;VALUE=DATE:20180131
DTSTAMP:20180130T000000Z
UID:d39f84cd-1716-4e06-89f8-ad0cf0970d89
LOCATION:
SUMMARY;LANGUAGE=en-us:First day for students for 2018
SEQUENCE:0
DESCRIPTION:First day for students for 2018
END:VEVENT
TRANSP:TRANSPARENT
END:VCALENDAR
